BEGIN:VCALENDAR
VERSION:2.0
PRODID:-//DTU.dk//NONSGML DTU.dk//EN
CALSCALE:GREGORIAN
BEGIN:VEVENT
DTSTART:20260505T110000Z
DTEND:20260505T120000Z
SUMMARY:Introduction to ChipsJU Grants 2026
X-ALT-DESC;FMTTYPE=text/html:<p><a href='http://www.chips-competence-centre.dk/da/kalenderarkiv/2026/05/introduction-to-chipsju-grants-2026'>http://www.chips-competence-centre.dk/da/kalenderarkiv/2026/05/introduction-to-chipsju-grants-2026</a></p>Looking to unlock funding through ChipsJU? Join us for an overview of calls and opportunities.
URL:http://www.chips-competence-centre.dk/da/kalenderarkiv/2026/05/introduction-to-chipsju-grants-2026
DTSTAMP:20260420T165100Z
UID:{ED898417-EBCD-4E02-AEA1-FE110FD2722E}-20260505T110000Z
LOCATION:Online
END:VEVENT
END:VCALENDAR
