BEGIN:VCALENDAR
VERSION:2.0
PRODID:-//DTU.dk//NONSGML DTU.dk//EN
CALSCALE:GREGORIAN
BEGIN:VEVENT
DTSTART:20260505T070000Z
DTEND:20260505T140000Z
SUMMARY:PCB Layout and EMC (Copenhagen)
X-ALT-DESC;FMTTYPE=text/html:<p><a href='http://www.chips-competence-centre.dk/kalenderarkiv/2026/05/pcb-layout-and-emc-og-40copenhagenog-41'>http://www.chips-competence-centre.dk/kalenderarkiv/2026/05/pcb-layout-and-emc-og-40copenhagenog-41</a></p>Want to learn about EMC-correct PCB layout, from chip-level effects to full board design? We cover topics such as PCB layout around ICs, chip-level noise mechanisms, and manufacturing considerations.
URL:http://www.chips-competence-centre.dk/kalenderarkiv/2026/05/pcb-layout-and-emc-og-40copenhagenog-41
DTSTAMP:20260420T133800Z
UID:{3E6CD122-F9C4-421F-B826-E058DB41B16E}-20260505T070000Z
LOCATION:DTU
END:VEVENT
END:VCALENDAR
